BEGIN:VCALENDAR
VERSION:2.0
PRODID:-//UCLA Luskin - ECPv6.15.20//NONSGML v1.0//EN
CALSCALE:GREGORIAN
METHOD:PUBLISH
X-WR-CALNAME:UCLA Luskin
X-ORIGINAL-URL:https://luskin.ucla.edu
X-WR-CALDESC:Events for UCLA Luskin
REFRESH-INTERVAL;VALUE=DURATION:PT1H
X-Robots-Tag:noindex
X-PUBLISHED-TTL:PT1H
BEGIN:VTIMEZONE
TZID:America/Los_Angeles
BEGIN:DAYLIGHT
TZOFFSETFROM:-0800
TZOFFSETTO:-0700
TZNAME:PDT
DTSTART:20200308T100000
END:DAYLIGHT
BEGIN:STANDARD
TZOFFSETFROM:-0700
TZOFFSETTO:-0800
TZNAME:PST
DTSTART:20201101T090000
END:STANDARD
BEGIN:DAYLIGHT
TZOFFSETFROM:-0800
TZOFFSETTO:-0700
TZNAME:PDT
DTSTART:20210314T100000
END:DAYLIGHT
BEGIN:STANDARD
TZOFFSETFROM:-0700
TZOFFSETTO:-0800
TZNAME:PST
DTSTART:20211107T090000
END:STANDARD
BEGIN:DAYLIGHT
TZOFFSETFROM:-0800
TZOFFSETTO:-0700
TZNAME:PDT
DTSTART:20220313T100000
END:DAYLIGHT
BEGIN:STANDARD
TZOFFSETFROM:-0700
TZOFFSETTO:-0800
TZNAME:PST
DTSTART:20221106T090000
END:STANDARD
END:VTIMEZONE
BEGIN:VEVENT
DTSTART;TZID=America/Los_Angeles:20210423T120000
DTEND;TZID=America/Los_Angeles:20210423T130000
DTSTAMP:20260420T075842
CREATED:20210315T231904Z
LAST-MODIFIED:20210315T232142Z
UID:10003129-1619179200-1619182800@luskin.ucla.edu
SUMMARY:Moving Through Academia: A Panel for Social Welfare Doctoral Students
DESCRIPTION:The Professional Development Committee would like to announce an upcoming discussion about moving through academia\, and will feature graduates of the UCLA PhD Social Welfare program Donte Boyd\, Skye Allmang\, and Kristina Lovato!\n\nThe panel will take place on Friday\, April 23rd from 12 to 1 PM PST. Registration is available here\, and you must register to attend the event. The link to register is also available on the flyer.
URL:https://luskin.ucla.edu/event/moving-through-academia-a-panel-for-social-welfare-doctoral-students
ATTACH;FMTTYPE=image/png:https://luskin.ucla.edu/wp-content/uploads/2021/03/Screen-Shot-2021-03-15-at-4.14.02-PM.png
END:VEVENT
END:VCALENDAR