BEGIN:VCALENDAR
VERSION:2.0
PRODID:-//UCLA Luskin - ECPv6.15.20//NONSGML v1.0//EN
CALSCALE:GREGORIAN
METHOD:PUBLISH
X-WR-CALNAME:UCLA Luskin
X-ORIGINAL-URL:https://luskin.ucla.edu
X-WR-CALDESC:Events for UCLA Luskin
REFRESH-INTERVAL;VALUE=DURATION:PT1H
X-Robots-Tag:noindex
X-PUBLISHED-TTL:PT1H
BEGIN:VTIMEZONE
TZID:America/Los_Angeles
BEGIN:DAYLIGHT
TZOFFSETFROM:-0800
TZOFFSETTO:-0700
TZNAME:PDT
DTSTART:20250309T100000
END:DAYLIGHT
BEGIN:STANDARD
TZOFFSETFROM:-0700
TZOFFSETTO:-0800
TZNAME:PST
DTSTART:20251102T090000
END:STANDARD
BEGIN:DAYLIGHT
TZOFFSETFROM:-0800
TZOFFSETTO:-0700
TZNAME:PDT
DTSTART:20260308T100000
END:DAYLIGHT
BEGIN:STANDARD
TZOFFSETFROM:-0700
TZOFFSETTO:-0800
TZNAME:PST
DTSTART:20261101T090000
END:STANDARD
BEGIN:DAYLIGHT
TZOFFSETFROM:-0800
TZOFFSETTO:-0700
TZNAME:PDT
DTSTART:20270314T100000
END:DAYLIGHT
BEGIN:STANDARD
TZOFFSETFROM:-0700
TZOFFSETTO:-0800
TZNAME:PST
DTSTART:20271107T090000
END:STANDARD
END:VTIMEZONE
BEGIN:VEVENT
DTSTART;TZID=America/Los_Angeles:20260529T093000
DTEND;TZID=America/Los_Angeles:20260529T113000
DTSTAMP:20260419T045633
CREATED:20260320T204631Z
LAST-MODIFIED:20260331T170443Z
UID:10004058-1780047000-1780054200@luskin.ucla.edu
SUMMARY:Career Tour: Google Playa Vista
DESCRIPTION:Open to Luskin graduate students and seniors majoring in Public Affairs. \n**Registration for this event is not a guarantee of selection for attendance. Only 13 students will be selected to attend this Career Tour\, due to space constraints. All potential attendees must submit a resume\, along with a short answer response to why you are interested in this opportunity.** \nRegistration of potential attendees will close on Wednesday\, May 20 at 5pm and selected students will be notified by Monday\, May 25 if you have been selected to attend. \nJoin us for a Career Tour at Google LA to discover how leaders in technology are shaping policy\, social impact\, community engagement\, and responsible innovation. Attendees will have the opportunity to tour the office\, hear from a panel of professionals working across different public affairs related sectors\, and learn how your skills can fit in to tech. Tech isn’t just engineers—Google hires people who understand policy\, communities\, equity\, and real-world impact. \nSpace is limited and selection for attendance is not guaranteed. If you’re interested\, make sure to submit your resume and statement of interest in CareerHub today! Submissions will close on May 20. \n9:30-9:45am- Arrivals & Check In \n9:45-10:00am- Welcome & Introductions \n10:00-10:45am- Panel \n10:45-11:15am- Office Tour \n11:30am- Departures \nBy attending this event\, you will enter an area where photography\, audio\, and video recording may occur. With your presence\, you authorize UCLA Luskin and its licensees to photograph you\, make sound and/or video recordings of you\, and use the recordings for marketing\, publicity\, and promotion of this event and UCLA Luskin in general.
URL:https://luskin.ucla.edu/event/career-tour-google-playa-vista
LOCATION:Google Playa Vista\, 16 South Campus Drive Los Angeles\, CA 90094
CATEGORIES:Career Services,For Students,Professional Events,Public Policy,School of Public Affairs,Social Welfare,Social Welfare PhD,UCLA,Undergraduate,Urban Planning
ATTACH;FMTTYPE=image/jpeg:https://luskin.ucla.edu/wp-content/uploads/2026/03/Picture43-1.jpg
ORGANIZER;CN="Luskin Office of Student Affairs and Alumni Relations%2C Career Services":MAILTO:careerservices@luskin.ucla.edu
END:VEVENT
END:VCALENDAR