BEGIN:VCALENDAR
VERSION:2.0
PRODID:-//UCLA Luskin - ECPv6.15.20//NONSGML v1.0//EN
CALSCALE:GREGORIAN
METHOD:PUBLISH
X-ORIGINAL-URL:https://luskin.ucla.edu
X-WR-CALDESC:Events for UCLA Luskin
REFRESH-INTERVAL;VALUE=DURATION:PT1H
X-Robots-Tag:noindex
X-PUBLISHED-TTL:PT1H
BEGIN:VTIMEZONE
TZID:America/Los_Angeles
BEGIN:DAYLIGHT
TZOFFSETFROM:-0800
TZOFFSETTO:-0700
TZNAME:PDT
DTSTART:20220313T100000
END:DAYLIGHT
BEGIN:STANDARD
TZOFFSETFROM:-0700
TZOFFSETTO:-0800
TZNAME:PST
DTSTART:20221106T090000
END:STANDARD
BEGIN:DAYLIGHT
TZOFFSETFROM:-0800
TZOFFSETTO:-0700
TZNAME:PDT
DTSTART:20230312T100000
END:DAYLIGHT
BEGIN:STANDARD
TZOFFSETFROM:-0700
TZOFFSETTO:-0800
TZNAME:PST
DTSTART:20231105T090000
END:STANDARD
BEGIN:DAYLIGHT
TZOFFSETFROM:-0800
TZOFFSETTO:-0700
TZNAME:PDT
DTSTART:20240310T100000
END:DAYLIGHT
BEGIN:STANDARD
TZOFFSETFROM:-0700
TZOFFSETTO:-0800
TZNAME:PST
DTSTART:20241103T090000
END:STANDARD
BEGIN:DAYLIGHT
TZOFFSETFROM:-0800
TZOFFSETTO:-0700
TZNAME:PDT
DTSTART:20250309T100000
END:DAYLIGHT
BEGIN:STANDARD
TZOFFSETFROM:-0700
TZOFFSETTO:-0800
TZNAME:PST
DTSTART:20251102T090000
END:STANDARD
END:VTIMEZONE
BEGIN:VEVENT
DTSTART;TZID=America/Los_Angeles:20240213T170000
DTEND;TZID=America/Los_Angeles:20240213T190000
DTSTAMP:20260424T051916
CREATED:20231117T153609Z
LAST-MODIFIED:20231117T153610Z
UID:10003398-1707843600-1707850800@luskin.ucla.edu
SUMMARY:Sacramento Alumni Regional Reception
DESCRIPTION:You are cordially invited to our Luskin Alumni Regional Reception at Juju Kitchen and Cocktails in Sacramento\, CA. This networking event brings together alumni from all four departments (Public Policy\, Social Welfare\, Urban Planning\, and our Undergraduate Program) that comprise the UCLA Luskin School of Public Affairs. \nJoin us for an evening of camaraderie\, nostalgia\, and the opportunity to reconnect with fellow alumni. It’s a chance to share stories\, reminisce about shared experiences\, and forge new connections in a relaxed and inviting atmosphere.
URL:https://luskin.ucla.edu/event/sacramento-alumni-regional-reception-2-2
LOCATION:Juju Kitchen and Cocktails\, Sacramento\, United States
CATEGORIES:School of Public Affairs
ATTACH;FMTTYPE=image/png:https://luskin.ucla.edu/wp-content/uploads/2023/11/Slider-Flyers-3.png
END:VEVENT
BEGIN:VEVENT
DTSTART;TZID=America/Los_Angeles:20230601T170000
DTEND;TZID=America/Los_Angeles:20230601T190000
DTSTAMP:20260424T051916
CREATED:20230418T225347Z
LAST-MODIFIED:20230516T171836Z
UID:10003323-1685638800-1685646000@luskin.ucla.edu
SUMMARY:Sacramento Luskin Alumni Regional Reception
DESCRIPTION:The event offers alumni\, faculty\, and staff the opportunity to connect with a vibrant and diverse group of individuals committed to social change\, building community\, and giving back to Luskin. \nThe evening will include brief remarks from our new Interim Dean Anastasia Loukaitou-Sideris\, Director of Alumni Engagement\, Karina Mascorro. Also speaking will be Senior Director of External Relations. \nWe will have complimentary hors d’oeuvres and cocktails.
URL:https://luskin.ucla.edu/event/sacramento-luskin-alumni-regional-reception
LOCATION:Juju Kitchen and Cocktails\, Sacramento\, United States
CATEGORIES:School of Public Affairs
ATTACH;FMTTYPE=image/png:https://luskin.ucla.edu/wp-content/uploads/2023/04/Alumni-Reception-Flyers-22.png
END:VEVENT
END:VCALENDAR