BEGIN:VCALENDAR
VERSION:2.0
PRODID:-//UCLA Luskin - ECPv6.15.20//NONSGML v1.0//EN
CALSCALE:GREGORIAN
METHOD:PUBLISH
X-WR-CALNAME:UCLA Luskin
X-ORIGINAL-URL:https://luskin.ucla.edu
X-WR-CALDESC:Events for UCLA Luskin
REFRESH-INTERVAL;VALUE=DURATION:PT1H
X-Robots-Tag:noindex
X-PUBLISHED-TTL:PT1H
BEGIN:VTIMEZONE
TZID:America/Los_Angeles
BEGIN:DAYLIGHT
TZOFFSETFROM:-0800
TZOFFSETTO:-0700
TZNAME:PDT
DTSTART:20250309T100000
END:DAYLIGHT
BEGIN:STANDARD
TZOFFSETFROM:-0700
TZOFFSETTO:-0800
TZNAME:PST
DTSTART:20251102T090000
END:STANDARD
BEGIN:DAYLIGHT
TZOFFSETFROM:-0800
TZOFFSETTO:-0700
TZNAME:PDT
DTSTART:20260308T100000
END:DAYLIGHT
BEGIN:STANDARD
TZOFFSETFROM:-0700
TZOFFSETTO:-0800
TZNAME:PST
DTSTART:20261101T090000
END:STANDARD
BEGIN:DAYLIGHT
TZOFFSETFROM:-0800
TZOFFSETTO:-0700
TZNAME:PDT
DTSTART:20270314T100000
END:DAYLIGHT
BEGIN:STANDARD
TZOFFSETFROM:-0700
TZOFFSETTO:-0800
TZNAME:PST
DTSTART:20271107T090000
END:STANDARD
END:VTIMEZONE
BEGIN:VEVENT
DTSTART;TZID=America/Los_Angeles:20260512T123000
DTEND;TZID=America/Los_Angeles:20260512T140000
DTSTAMP:20260423T020436
CREATED:20260320T204950Z
LAST-MODIFIED:20260320T204950Z
UID:10004059-1778589000-1778594400@luskin.ucla.edu
SUMMARY:NASW-CA Clinical Social Work Licensure Workshop
DESCRIPTION:Join Dr. Jasmine Smith\, the Director of Capacity Building with the NASW-CA Chapter to learn about the licensure process\, including key steps\, requirements\, and guidance for navigating the licensure pathway. \nThis workshop will walk you through the essential steps and requirements needed to successfully obtain your clinical license in California. Dr. Smith will provide a clear breakdown of the licensure timeline\, supervision expectations\, exam preparation considerations\, and documentation best practices. Participants will also receive guidance on navigating common challenges\, accessing NASW resources\, and making informed decisions throughout their licensure journey. \nThis is an excellent opportunity to gain clarity\, ask questions\, and feel more confident as you move forward in your professional development. \nThis session will be recorded. Make sure you come with questions!
URL:https://luskin.ucla.edu/event/nasw-ca-clinical-social-work-licensure-workshop
LOCATION:Zoom
CATEGORIES:Alumni,Career Services,For Students,Professional Events,School of Public Affairs,Social Welfare,Social Welfare PhD,UCLA,Undergraduate
ATTACH;FMTTYPE=image/png:https://luskin.ucla.edu/wp-content/uploads/2026/03/logo.png
ORGANIZER;CN="Luskin Office of Student Affairs and Alumni Relations%2C Career Services":MAILTO:careerservices@luskin.ucla.edu
END:VEVENT
END:VCALENDAR